BEGIN:VCALENDAR
VERSION:2.0
PRODID:-//eventon.com NONSGML v1.0//EN
BEGIN:VEVENT
UID:69e741fb8b417
DTSTAMP:20260421T092307
DTSTART:20190415T070000Z
DTEND:20190415T180000Z
LOCATION:
SUMMARY:Soutenances des rapports de stage- BTS 2018-2019
DESCRIPTION: Soutenances des rapports de stage- BTS 2018-2019
END:VEVENT
END:VCALENDAR